BEGIN:VCALENDAR
VERSION:2.0
PRODID:-//PAS Consulting - ECPv6.0.12//NONSGML v1.0//EN
CALSCALE:GREGORIAN
METHOD:PUBLISH
X-WR-CALNAME:PAS Consulting
X-ORIGINAL-URL:https://staging.pasconsulting.id
X-WR-CALDESC:Events for PAS Consulting
REFRESH-INTERVAL;VALUE=DURATION:PT1H
X-Robots-Tag:noindex
X-PUBLISHED-TTL:PT1H
BEGIN:VTIMEZONE
TZID:Asia/Krasnoyarsk
BEGIN:STANDARD
TZOFFSETFROM:+0700
TZOFFSETTO:+0700
TZNAME:+07
DTSTART:20260101T000000
END:STANDARD
END:VTIMEZONE
BEGIN:VEVENT
DTSTART;TZID=Asia/Krasnoyarsk:20260424T080000
DTEND;TZID=Asia/Krasnoyarsk:20260424T170000
DTSTAMP:20260424T212958
CREATED:20260424T062509Z
LAST-MODIFIED:20260424T062509Z
UID:2129-1777017600-1777050000@staging.pasconsulting.id
SUMMARY:Test Event
DESCRIPTION:Test Event
URL:https://staging.pasconsulting.id/event/test-event/
END:VEVENT
END:VCALENDAR